BEGIN:VCALENDAR
VERSION:2.0
PRODID:-//Petra Biefang - Heilpraktikerin Pfaffenhofen - Coaching - Seminare - ECPv6.15.20//NONSGML v1.0//EN
CALSCALE:GREGORIAN
METHOD:PUBLISH
X-ORIGINAL-URL:https://petrabiefang.de
X-WR-CALDESC:Veranstaltungen für Petra Biefang - Heilpraktikerin Pfaffenhofen - Coaching - Seminare
REFRESH-INTERVAL;VALUE=DURATION:PT1H
X-Robots-Tag:noindex
X-PUBLISHED-TTL:PT1H
BEGIN:VTIMEZONE
TZID:Europe/Berlin
BEGIN:DAYLIGHT
TZOFFSETFROM:+0100
TZOFFSETTO:+0200
TZNAME:CEST
DTSTART:20250330T010000
END:DAYLIGHT
BEGIN:STANDARD
TZOFFSETFROM:+0200
TZOFFSETTO:+0100
TZNAME:CET
DTSTART:20251026T010000
END:STANDARD
BEGIN:DAYLIGHT
TZOFFSETFROM:+0100
TZOFFSETTO:+0200
TZNAME:CEST
DTSTART:20260329T010000
END:DAYLIGHT
BEGIN:STANDARD
TZOFFSETFROM:+0200
TZOFFSETTO:+0100
TZNAME:CET
DTSTART:20261025T010000
END:STANDARD
BEGIN:DAYLIGHT
TZOFFSETFROM:+0100
TZOFFSETTO:+0200
TZNAME:CEST
DTSTART:20270328T010000
END:DAYLIGHT
BEGIN:STANDARD
TZOFFSETFROM:+0200
TZOFFSETTO:+0100
TZNAME:CET
DTSTART:20271031T010000
END:STANDARD
END:VTIMEZONE
BEGIN:VEVENT
DTSTART;VALUE=DATE:20260612
DTEND;VALUE=DATE:20260615
DTSTAMP:20260421T044814
CREATED:20240409T095729Z
LAST-MODIFIED:20250805T190700Z
UID:269-1781222400-1781481599@petrabiefang.de
SUMMARY:Die Kunst als Paar zu leben
DESCRIPTION:Die Kunst als Paar zu leben\nFür Paare\, die wachsen wollen – in Liebe\, Tiefe und Klarheit\nWünscht ihr euch eine Beziehung\, die euch nährt\, trägt und mit der Zeit sogar intensiver und erfüllter wird? \nViele Paare erleben im Alltag\, dass Nähe und Leichtigkeit verloren gehen. Gespräche werden oberflächlicher\, Streitigkeiten wiederholen sich\, und die Verbindung fühlt sich schwächer an. \nIn diesem Seminar lernt ihr\, wie ihr als Paar neue Wege geht – mit mehr Bewusstsein\, gegenseitigem Verstehen und echter Begegnung. \n  \nWas euch erwartet\nEin Wochenende voller Impulse\, Übungen und Austausch. Wir arbeiten erlebnisorientiert\, praktisch und achtsam. Ihr bekommt Werkzeuge\, die ihr direkt im Alltag anwenden könnt. \nInhalte des Seminars: \n– Friedvolle Kommunikation gemeinsam üben \n– Wege aus Streit- und Dauerschleifen erkennen \n– Euch offen und authentisch zeigen \n– Eigene Bedürfnisse wahrnehmen und klar ausdrücken \n– Nähe aufbauen – Verbindung halten \n– Heilsame\, nährende Begegnungen erleben \n– Alltagstaugliche Ideen für mehr Miteinander \n  \nFür wen ist dieses Seminar?\nFür Paare\, die:\n– ihre Beziehung vertiefen möchten\n– neue Impulse für den Beziehungsalltag suchen\n– gemeinsam wachsen wollen – auf Augenhöhe\, mit Herz und Humor \nLeitung \n\nPetra Biefang\, Gestalt- & Körpertherapeutin\, Heilpraktikerin auf dem Gebiet der Psychotherapie\, Paarcoaching\, Traumatherapie\nChristian Jarosch Heilpraktiker auf dem  Gebiet der Psychotherapie\, Mentaltrainer\, Gesprächs-und körperorientierte Bewusstseinsarbeit\n\nOrt: Petersberg\nAnmeldung unter: Anmeldung Ehe und Familie \nWas ihr noch benötigt:\nDecken\, Kissen\, Liegematte\, bequeme Kleidung\, evtl. schöne Tücher zur Dekoration eines WohlfühlplatzesTiefe \nWeitere Paarseminare findest du auf meiner Webseite unter: Paarseminare \n  \nFür Kinderbetreuung ist gesorgt\n 
URL:https://petrabiefang.de/seminare/die-kunst-als-paar-zu-leben/
LOCATION:Petersberg bei Dachau
ATTACH;FMTTYPE=image/jpeg:https://petrabiefang.de/wp-content/uploads/2024/04/Kein-Titel-573-x-350-px-1.jpg
END:VEVENT
END:VCALENDAR